BEGIN:VCALENDAR
VERSION:2.0
PRODID:-//GNORW - ECPv6.15.20//NONSGML v1.0//EN
CALSCALE:GREGORIAN
METHOD:PUBLISH
X-WR-CALNAME:GNORW
X-ORIGINAL-URL:https://gnorw.club
X-WR-CALDESC:Events for GNORW
REFRESH-INTERVAL;VALUE=DURATION:PT1H
X-Robots-Tag:noindex
X-PUBLISHED-TTL:PT1H
BEGIN:VTIMEZONE
TZID:America/Chicago
BEGIN:DAYLIGHT
TZOFFSETFROM:-0600
TZOFFSETTO:-0500
TZNAME:CDT
DTSTART:20230312T080000
END:DAYLIGHT
BEGIN:STANDARD
TZOFFSETFROM:-0500
TZOFFSETTO:-0600
TZNAME:CST
DTSTART:20231105T070000
END:STANDARD
BEGIN:DAYLIGHT
TZOFFSETFROM:-0600
TZOFFSETTO:-0500
TZNAME:CDT
DTSTART:20240310T080000
END:DAYLIGHT
BEGIN:STANDARD
TZOFFSETFROM:-0500
TZOFFSETTO:-0600
TZNAME:CST
DTSTART:20241103T070000
END:STANDARD
BEGIN:DAYLIGHT
TZOFFSETFROM:-0600
TZOFFSETTO:-0500
TZNAME:CDT
DTSTART:20250309T080000
END:DAYLIGHT
BEGIN:STANDARD
TZOFFSETFROM:-0500
TZOFFSETTO:-0600
TZNAME:CST
DTSTART:20251102T070000
END:STANDARD
END:VTIMEZONE
BEGIN:VEVENT
DTSTART;TZID=America/Chicago:20240806T183000
DTEND;TZID=America/Chicago:20240806T210000
DTSTAMP:20260425T220941
CREATED:20240622T201447Z
LAST-MODIFIED:20240725T201255Z
UID:2176-1722969000-1722978000@gnorw.club
SUMMARY:Aug 6 - River Region Republican Women 11th Chef Cook-Off
DESCRIPTION:  \n \n 
URL:https://gnorw.club/event/aug-6-river-region-republican-women-11th-chef-cook-off/
LOCATION:Jefferson Orleans South\, 2536 Edenborn Ave\, Metairie\, LA\, United States
CATEGORIES:Region 1 Event
ATTACH;FMTTYPE=image/png:https://gnorw.club/wp-content/uploads/2024/06/River-Region-Republican-Women.png
ORGANIZER;CN="River Region Republican Women":MAILTO:RiverRegionRW@gmail.com
END:VEVENT
BEGIN:VEVENT
DTSTART;TZID=America/Chicago:20240803T083000
DTEND;TZID=America/Chicago:20240803T110000
DTSTAMP:20260425T220941
CREATED:20240724T173058Z
LAST-MODIFIED:20240724T173058Z
UID:2241-1722673800-1722682800@gnorw.club
SUMMARY:Aug 3 - Get Out The Vote Training
DESCRIPTION:Use this link to sign up for the event  \nThe Jefferson Parish Republican Women sponsors this event.  Cost is $15\, and breakfast will be provided.  Topics are: \n\n Door Knocking Role Playing\nPhone Bank Role Playing\nPoll Greeting Role Playing and Discussion
URL:https://gnorw.club/event/aug-3-get-out-the-vote-training/
LOCATION:Agape Christian Fellowship Church\, 3810 Power Blvd\, Metairie\, LA\, 70003\, United States
CATEGORIES:Region 1 Event
ATTACH;FMTTYPE=image/png:https://gnorw.club/wp-content/uploads/2024/06/Louisiana-Voted.png
END:VEVENT
END:VCALENDAR